BEGIN:VCALENDAR
VERSION:2.0
PRODID:-//SMASD Dutch Manufacturing - ECPv6.0.1.1//NONSGML v1.0//EN
CALSCALE:GREGORIAN
METHOD:PUBLISH
X-WR-CALNAME:SMASD Dutch Manufacturing
X-ORIGINAL-URL:https://dutchmfg.com
X-WR-CALDESC:Events for SMASD Dutch Manufacturing
REFRESH-INTERVAL;VALUE=DURATION:PT1H
X-Robots-Tag:noindex
X-PUBLISHED-TTL:PT1H
BEGIN:VTIMEZONE
TZID:UTC
BEGIN:STANDARD
TZOFFSETFROM:+0000
TZOFFSETTO:+0000
TZNAME:UTC
DTSTART:20230101T000000
END:STANDARD
END:VTIMEZONE
BEGIN:VEVENT
DTSTART;VALUE=DATE:20231030
DTEND;VALUE=DATE:20231031
DTSTAMP:20260423T053957
CREATED:20231016T140813Z
LAST-MODIFIED:20231016T140813Z
UID:3284-1698624000-1698710399@dutchmfg.com
SUMMARY:Tour of Ion Technologies
DESCRIPTION:
URL:https://dutchmfg.com/event/tour-of-ion-technologies/
CATEGORIES:Tours
END:VEVENT
END:VCALENDAR