BEGIN:VCALENDAR
VERSION:2.0
PRODID:-//SMASD Dutch Manufacturing - ECPv6.0.1.1//NONSGML v1.0//EN
CALSCALE:GREGORIAN
METHOD:PUBLISH
X-ORIGINAL-URL:https://dutchmfg.com
X-WR-CALDESC:Events for SMASD Dutch Manufacturing
REFRESH-INTERVAL;VALUE=DURATION:PT1H
X-Robots-Tag:noindex
X-PUBLISHED-TTL:PT1H
BEGIN:VTIMEZONE
TZID:UTC
BEGIN:STANDARD
TZOFFSETFROM:+0000
TZOFFSETTO:+0000
TZNAME:UTC
DTSTART:20230101T000000
END:STANDARD
END:VTIMEZONE
BEGIN:VEVENT
DTSTART;VALUE=DATE:20230914
DTEND;VALUE=DATE:20230915
DTSTAMP:20260423T084954
CREATED:20230830T142411Z
LAST-MODIFIED:20230830T142652Z
UID:3240-1694649600-1694735999@dutchmfg.com
SUMMARY:Tour of Advantage Powder
DESCRIPTION:
URL:https://dutchmfg.com/event/advantage-powder/
CATEGORIES:Tours
END:VEVENT
END:VCALENDAR